BEGIN:VCALENDAR
VERSION:2.0
PRODID:icalendar-ruby
CALSCALE:GREGORIAN
METHOD:PUBLISH
BEGIN:VEVENT
DTSTAMP:20260424T212343Z
UID:5-420489@lionof.tithelysetup8.com
DTSTART:20261106T030000Z
DTEND:20261106T040000Z
CLASS:PUBLIC
CREATED:20260424T125325
DESCRIPTION:Zoom\nMeeting ID:  236 556 0367\nPassword: 277 817
LAST-MODIFIED:20260424T125325
LOCATION:Zoom
SUMMARY:LOJWC Bible Study
URL;VALUE=URI:https://lionof.tithelysetup8.com/events/lojwc-bible-study/202
 6-11-05
END:VEVENT
END:VCALENDAR
