BEGIN:VCALENDAR
VERSION:2.0
PRODID:icalendar-ruby
CALSCALE:GREGORIAN
METHOD:PUBLISH
BEGIN:VEVENT
DTSTAMP:20260424T195049Z
UID:5-420221@lionof.tithelysetup8.com
DTSTART:20261030T020000Z
DTEND:20261030T030000Z
CLASS:PUBLIC
CREATED:20260424T100643
DESCRIPTION:Zoom\nMeeting ID:  236 556 0367\nPassword: 277 817
LAST-MODIFIED:20260424T100643
LOCATION:Zoom
SUMMARY:LOJWC Bible Study
URL;VALUE=URI:https://lionof.tithelysetup8.com/events/lojwc-bible-study/202
 6-10-29
END:VEVENT
END:VCALENDAR
