BEGIN:VCALENDAR
VERSION:2.0
PRODID:icalendar-ruby
CALSCALE:GREGORIAN
METHOD:PUBLISH
BEGIN:VEVENT
DTSTAMP:20260424T164831Z
UID:5-419952@lionof.tithelysetup8.com
DTSTART:20261016T020000Z
DTEND:20261016T030000Z
CLASS:PUBLIC
CREATED:20260424T071809
DESCRIPTION:Zoom\nMeeting ID:  236 556 0367\nPassword: 277 817
LAST-MODIFIED:20260424T071809
LOCATION:Zoom
SUMMARY:LOJWC Bible Study
URL;VALUE=URI:https://lionof.tithelysetup8.com/events/lojwc-bible-study/202
 6-10-15
END:VEVENT
END:VCALENDAR
