BEGIN:VCALENDAR
VERSION:2.0
PRODID:icalendar-ruby
CALSCALE:GREGORIAN
METHOD:PUBLISH
BEGIN:VEVENT
DTSTAMP:20260424T122556Z
UID:5-419682@lionof.tithelysetup8.com
DTSTART:20260925T020000Z
DTEND:20260925T030000Z
CLASS:PUBLIC
CREATED:20260424T042418
DESCRIPTION:Zoom\nMeeting ID:  236 556 0367\nPassword: 277 817
LAST-MODIFIED:20260424T042418
LOCATION:Zoom
SUMMARY:LOJWC Bible Study
URL;VALUE=URI:https://lionof.tithelysetup8.com/events/lojwc-bible-study/202
 6-09-24
END:VEVENT
END:VCALENDAR
