BEGIN:VCALENDAR
VERSION:2.0
PRODID:icalendar-ruby
CALSCALE:GREGORIAN
METHOD:PUBLISH
BEGIN:VEVENT
DTSTAMP:20260424T092959Z
UID:5-419414@lionof.tithelysetup8.com
DTSTART:20260911T020000Z
DTEND:20260911T030000Z
CLASS:PUBLIC
CREATED:20260423T185550
DESCRIPTION:Zoom\nMeeting ID:  236 556 0367\nPassword: 277 817
LAST-MODIFIED:20260423T185550
LOCATION:Zoom
SUMMARY:LOJWC Bible Study
URL;VALUE=URI:https://lionof.tithelysetup8.com/events/lojwc-bible-study/202
 6-09-10
END:VEVENT
END:VCALENDAR
